BEGIN:VCALENDAR
VERSION:2.0
PRODID:-//Familie Ströbele - ECPv5.16.2.1//NONSGML v1.0//EN
CALSCALE:GREGORIAN
METHOD:PUBLISH
X-ORIGINAL-URL:https://www.familie-stroebele.de
X-WR-CALDESC:Events for Familie Ströbele
REFRESH-INTERVAL;VALUE=DURATION:PT1H
X-Robots-Tag:noindex
X-PUBLISHED-TTL:PT1H
BEGIN:VTIMEZONE
TZID:Europe/Berlin
BEGIN:DAYLIGHT
TZOFFSETFROM:+0100
TZOFFSETTO:+0200
TZNAME:CEST
DTSTART:20210328T010000
END:DAYLIGHT
BEGIN:STANDARD
TZOFFSETFROM:+0200
TZOFFSETTO:+0100
TZNAME:CET
DTSTART:20211031T010000
END:STANDARD
END:VTIMEZONE
BEGIN:VEVENT
DTSTART;TZID=Europe/Berlin:20210501T080000
DTEND;TZID=Europe/Berlin:20210501T170000
DTSTAMP:20260421T192101
CREATED:20210212T192034Z
LAST-MODIFIED:20210213T145702Z
UID:383-1619856000-1619888400@www.familie-stroebele.de
SUMMARY:1. Mai Wanderung
DESCRIPTION:Im Kaiserstuhl\, durch den Kaiserstuhl und um den Kaiserstuhl herum
URL:https://www.familie-stroebele.de/event/1-mai-wanderung/
CATEGORIES:Wanderungen
ATTACH;FMTTYPE=image/jpeg:https://www.familie-stroebele.de/wp-content/uploads/2021/02/106527221_2766621126949994_9060594248345805791_n.jpg
END:VEVENT
BEGIN:VEVENT
DTSTART;TZID=Europe/Berlin:20210214T000000
DTEND;TZID=Europe/Berlin:20210214T235959
DTSTAMP:20260421T192101
CREATED:20210213T172158Z
LAST-MODIFIED:20210213T172201Z
UID:410-1613260800-1613347199@www.familie-stroebele.de
SUMMARY:Valentinstag
DESCRIPTION:
URL:https://www.familie-stroebele.de/event/valentinstag/
END:VEVENT
END:VCALENDAR